BEGIN:VCALENDAR
VERSION:2.0
PRODID:-//ddaysoftware.com//NONSGML DDay.iCal 1.0//EN
BEGIN:VEVENT
DESCRIPTION:\n	\n		\n			\n				\n					\n						See a list of upcoming trainin
 g classes below. Members are encouraged to refresh their skills on the man
 y free tools available. Take as many classes as many times as your schedul
 e permits.\n					\n						See our Matrix Minute Videos on the Canopy MLS Yo
 utube channel.\n					\n						To schedule a training session for your offic
 e\, email brokerrelations@canopyrealtors.comor call 704.940.3133.\n					\n
 						For Matrix support contact support@canopyrealtors.com or 704.940.315
 9\n					\n						\n					\n					\n						\n							\n								\n									\n				
 				\n									\n								\n									Date\n								\n									Time(EST)   \
 n								\n									\n							\n							\n								\n									*********NEW***
 ****Rayse\n								\n									On Demand\n								\n									\n								\n		
 							\n								\n									Watch\n							\n							\n								\n									**
 ********NEW Realtor.com+\n								\n									On Demand\n								\n								
 	\n								\n									\n								\n									Watch\n							\n							\n						
 		\n									\n								\n									\n								\n									\n								\n							
 		\n								\n									\n							\n							\n								\n									\n										
 Down Payment Resource Webinars\n								\n								\n									\n								\n	
 								\n								\n									\n								\n									\n							\n							\n				
 				\n									Down Payment Programs 101: What Every Canopy MLS Agent Need
 s to Know\n								\n									On Demand\n								\n									\n								\n		
 							\n								\n									Watch\n							\n							\n								\n									Ca
 nopy MLS Webinar: Those Darn DPAs!\n								\n									On Demand\n								
 \n									\n								\n									\n								\n									Watch\n							\n					
 		\n								\n									Canopy MLS Webinar: Explore DPAs and Engage Buyers 
 with Down Payment Resource\n								\n									On Demand\n								\n						
 			\n								\n									\n								\n									Watch\n							\n							\n				
 				\n									Down Payment Connect Best Practices for Canopy MLS Members\
 n								\n									On Demand\n								\n									\n								\n									\n	
 							\n									Watch\n							\n							\n								\n									\n								\n
 									\n								\n									\n								\n									\n								\n									\n
 							\n							\n								\n									In Person Only At Canopy Realtor Asso
 ciation\n								\n									\n								\n									\n								\n									\n		
 						\n									\n							\n							\n								\n									1120 Pearl Parkway
 \, Charlotte NC 28204\n								\n									Map\n								\n									\n						
 		\n									\n								\n									\n							\n							\n								\n									\
 n								\n									\n								\n									\n								\n									\n								\n
 									\n							\n							\n								\n									\n								\n									\n			
 					\n									\n								\n									\n								\n									\n							\n					
 		\n								\n									In Person Only at HBOR\n								\n									\n						
 		\n									\n								\n									\n								\n									\n							\n							\
 n								\n									316 First Avenue East\, Hendersonville\, NC 28792-5006
 \n								\n									Map\n								\n									\n								\n									\n						
 		\n									\n							\n							\n								\n									\n								\n							\n	
 						\n								\n									\n										Live Webinars: Online Only\n							
 	\n								\n									\n								\n									\n										Date\n								\n			
 					\n									\n										Time (EST)\n								\n								\n									\n			
 				\n							\n								\n									Matrix Maps\n								\n									Online\n
 								\n									4/22/26\n								\n									2:00-3:00pm\n								\n				
 					Register\n							\n							\n								\n									CMA Tools\n								\n	
 								Online\n								\n									4/23/26\n								\n									10:00-11:30
 am\n								\n									Register\n							\n							\n								\n									Matr
 ix 360 powered by Realist Tax\n								\n									Online\n								\n						
 			4/23/26\n								\n									2:00-3:30pm\n								\n									Register\n	
 						\n							\n								\n									NEW!! Realtor.com+\n								\n								
 	Online\n								\n									4/24/26\n								\n									10:00-10:45\n					
 			\n									Register\n							\n							\n								\n									MatrixReverse
  Prospecting and Hit Counters\n								\n									Online\n								\n						
 			4/27/26\n								\n									9:00-9:45am\n								\n									Register\n	
 						\n							\n								\n									Matrix Stats  Market Reports\n								
 \n									Online\n								\n									4/27/26\n								\n									10:00-11
 :30am\n								\n									Register\n							\n							\n								\n									S
 howingTime\n								\n									Online\n								\n									4/28/26\n							
 	\n									2:00-3:00pm\n								\n									Register\n							\n							\n		
 						\n									Realtor.com+\n								\n									Online\n								\n						
 			4/29/26\n								\n									3:00-3:45pm\n								\n									Register\n	
 						\n							\n								\n									Realist Tax Search\n								\n								
 	Online\n								\n									4/29/26\n								\n									10:00-11:30am\n			
 					\n									Register\n							\n							\n								\n									Matrix 360 
 CMA\n								\n									Online\n								\n									4/29/26\n								\n				
 					2:00-3:30pm\n								\n									Register\n							\n							\n								\
 n									Matrix Searches and Displays\n								\n									Online\n							
 	\n									5/4/26\n								\n									10:00-11:30am\n								\n									R
 egister\n							\n							\n								\n									One Home Portal - Everything
  the Client Can See  Do\n								\n									Online\n								\n									5/4
 /26\n								\n									1:00-2:00pm\n								\n									Register\n							\
 n							\n								\n									Mailing Labels Galore\n								\n									Onl
 ine\n								\n									5/5/26\n								\n									1:00-2:30pm\n								\n
 									Register\n							\n							\n								\n									SuperSonic Supra W
 ednesday\n								\n									Online\n								\n									5/6/26\n								\n
 									9:30-10:30am\n								\n									Register\n							\n							\n				
 				\n									Matrix Agent Customized Market Watch  Hot Sheets\n								\
 n									Online\n								\n									5/6/26\n								\n									2:00-2:45p
 m\n								\n									Register\n							\n							\n								\n									Remin
 e Pro\n								\n									Online\n								\n									5/7/26\n								\n			
 						10:00-11:30am\n								\n									Register\n							\n							\n						
 		\n									Realtor.com+\n								\n									Online\n								\n									5
 /7/26\n								\n									noon-12:45pm\n								\n									Register\n					
 		\n							\n								\n									How your Canopy MLS subscription can suppo
 rt your AI Journey\n								\n									Online\n								\n									5/7/26\n
 								\n									2:00-3:30pm\n								\n									Register\n							\n				
 			\n								\n									Matrix Filter Contacts  Update AutoEmails\n							
 	\n									Online\n								\n									5/11/26\n								\n									9:00-9:
 45am\n								\n									Register\n							\n							\n								\n									Ma
 trix Power Search Tools\n								\n									Online\n								\n									5/1
 1/26\n								\n									10:00-11:30am\n								\n									Register\n					
 		\n							\n								\n									Realtor.com+\n								\n									Online\n	
 							\n									5/11/26\n								\n									2:00-2:45pm\n								\n					
 				Register\n							\n							\n								\n									What the Tool?\n							
 	\n									Online\n								\n									5/12/26\n								\n									2:00-3:
 00pm\n								\n									Register\n							\n							\n								\n									Re
 altor.com+\n								\n									Online\n								\n									5/20/26\n							
 	\n									10:00-10:45am\n								\n									Register\n							\n							\n
 								\n									ShowingTime\n								\n									Online\n								\n					
 				5/27/26\n								\n									11:00am-noon\n								\n									Register\
 n							\n							\n								\n									Realtor.com+\n								\n									Onl
 ine\n								\n									5/28/26\n								\n									1:00-1:45pm\n								\
 n									Register\n							\n							\n								\n									SuperSonic Supra 
 Wednesday\n								\n									Online\n								\n									6/3/26\n								\
 n									9:30-10:30am\n								\n									Register\n							\n							\n			
 					\n									ShowingTime\n								\n									Online\n								\n								
 	6/25/26\n								\n									1:00-2:00pm\n								\n									Register\n			
 				\n							\n								\n									SuperSonic Supra Wednesday\n								\n		
 							Online\n								\n									7/1/26\n								\n									9:30-10:30am\
 n								\n									Register\n							\n							\n								\n									\n					
 			\n									\n								\n									\n								\n									\n								\n						
 			\n							\n							\n								\n									\n										On Demand: Recorded\
 n									\n								\n							\n							\n								\n									The New Canopy 
 Dashboard\n								\n									View Now\n								\n									\n								\n			
 						\n								\n									\n							\n							\n								\n									Paragon 
 Connect\n								\n									View Now\n								\n									\n								\n					
 				\n								\n									\n							\n							\n								\n									ListTrac: 
 Online traffic analytics for listings\n								\n									View Now\n						
 		\n									\n								\n									\n								\n									\n							\n							\
 n								\n									Forewarn Live Training\n								\n									Register\n	
 							\n									\n								\n									\n								\n									\n							\n			
 				\n								\n									Rental Beast\n								\n									View Now\n						
 		\n									\n								\n									\n								\n									\n							\n							\
 n								\n									Rayse\n								\n									View Now\n								\n								
 	\n								\n									\n								\n									\n							\n							\n								\n	
 								Realist Tax System\n								\n									View Now\n								\n							
 		\n								\n									\n								\n									\n							\n							\n								\n
 									RatePlug\n								\n									View Now\n								\n									\n					
 			\n									\n								\n									\n							\n							\n								\n									
 Matrix \n								\n									View Now\n								\n									\n								\n					
 				\n								\n									\n							\n							\n								\n									One Home\n
 								\n									View Now\n								\n									\n								\n									\n			
 					\n									\n							\n							\n								\n									MLS Touch\n								
 \n									View Now\n								\n									\n								\n									\n								\n	
 								\n							\n							\n								\n									RPR(Realtors Property Resou
 rce)\n								\n									View Now\n								\n									\n								\n								
 	\n								\n									\n							\n							\n								\n									SUPRA\n						
 		\n									View Now\n								\n									\n								\n									\n								\
 n									\n							\n							\n								\n									Showingtime\n								\n		
 							View Now\n								\n									\n								\n									\n								\n					
 				\n							\n							\n								\n									Remine\n								\n									View
  Now\n								\n									\n								\n									\n								\n									\n					
 		\n							\n								\n									SAM (Statistical Analysis Module)\n							
 	\n									View Now\n								\n									\n								\n									\n								\n
 									\n							\n							\n								\n									Realtor.com Pro\n								\
 n									View Now\n								\n									\n								\n									\n								\n		
 							\n							\n							\n								\n									MLS Grid\n								\n								
 	View Now\n								\n									\n								\n									\n								\n									\n
 							\n							\n								\n									ListHub\n								\n									View Now\
 n								\n									\n								\n									\n								\n									\n							\n	
 						\n								\n									\n								\n							\n							\n								\n							
 		\n										SUPRA\n								\n							\n							\n								\n									Canopy
  MLS Supra Reset Authorization Code\n								\n									View Now\n								
 \n									\n								\n									\n								\n									\n							\n							\n	
 							\n									Canopy MLS Supra Pro-tips and Phone Numbers for Assistan
 ce\n								\n									View Now\n								\n									\n								\n									\
 n								\n									\n							\n							\n								\n									Supra Alert Fea
 ture  Safety Tips\n								\n									View Now\n								\n									\n					
 			\n									\n								\n									\n							\n							\n								\n									
 SuperSonic Supra\n									        \n								\n									View Now\n								
 \n									\n								\n									\n								\n									\n							\n							\n	
 							\n									\n								\n							\n							\n								\n									\n					
 					Common Compliance Scenarios\n								\n							\n							\n								\n		
 							Compliance: How to Avoid an Inappropriate Branding Violation\n					
 			\n									View Now\n								\n									\n								\n									\n								
 \n									\n							\n							\n								\n									Compliance: How to Repor
 t Room Level Accurately\n								\n									View Now\n								\n									\
 n								\n									\n								\n									\n							\n							\n								\n			
 						Compliance: When Is a Listing Required to Be Submitted?\n								\n	
 								View Now\n								\n									\n								\n									\n								\n				
 					\n							\n							\n								\n									\n									\n								\n							
 \n							\n								\n									My Flood Status\n								\n									View Now
 \n								\n									\n								\n									\n								\n									\n							\n
 						\n					\n					\n						\n				\n			\n		\n	\n	\n
DTEND:20180101T110000
DTSTAMP:20260422T093936
DTSTART:20180101T090000
LOCATION:TBD
SEQUENCE:0
SUMMARY:Canopy MLS Broker Relations and Training
UID:61926202-066e-4340-afbd-f094909e8006
END:VEVENT
END:VCALENDAR
